BEGIN:VCALENDAR
VERSION:2.0
PRODID:-//Magyar Turista Egyesület - MTE - ECPv5.14.1//NONSGML v1.0//EN
CALSCALE:GREGORIAN
METHOD:PUBLISH
X-WR-CALNAME:Magyar Turista Egyesület - MTE
X-ORIGINAL-URL:https://magyarturistaegyesulet.hu
X-WR-CALDESC:Events for Magyar Turista Egyesület - MTE
BEGIN:VTIMEZONE
TZID:UTC
BEGIN:STANDARD
TZOFFSETFROM:+0000
TZOFFSETTO:+0000
TZNAME:UTC
DTSTART:20260101T000000
END:STANDARD
END:VTIMEZONE
BEGIN:VEVENT
DTSTART;TZID=UTC:20260530T080000
DTEND;TZID=UTC:20260530T170000
DTSTAMP:20260422T135059
CREATED:20260412T052844Z
LAST-MODIFIED:20260412T052844Z
UID:18569-1780128000-1780160400@magyarturistaegyesulet.hu
SUMMARY:Által-ér – kerékpártúra
DESCRIPTION:Által-ér \n kerékpártúra\n  \nÚtvonal: Tata – Dunaalmás (vagy Naszály) – Almásfűzitő – Komárom \nLátogatás Révkomáromba az Európa térre (+ ebéd) \nTúratáv:          38\,0 km            \nSzint:              0\,0 km
URL:https://magyarturistaegyesulet.hu/esemeny/altal-er-kerekpartura/
CATEGORIES:Szentendrei Osztály – HÓD HTE
ORGANIZER;CN="Beck%20L%C3%A1szl%C3%B3":MAILTO:beckhod@t-online.hu
END:VEVENT
END:VCALENDAR