BEGIN:VCALENDAR
VERSION:2.0
PRODID:-//Magyar Turista Egyesület - MTE - ECPv5.14.1//NONSGML v1.0//EN
CALSCALE:GREGORIAN
METHOD:PUBLISH
X-WR-CALNAME:Magyar Turista Egyesület - MTE
X-ORIGINAL-URL:https://magyarturistaegyesulet.hu
X-WR-CALDESC:Events for Magyar Turista Egyesület - MTE
BEGIN:VTIMEZONE
TZID:UTC
BEGIN:STANDARD
TZOFFSETFROM:+0000
TZOFFSETTO:+0000
TZNAME:UTC
DTSTART:20260101T000000
END:STANDARD
END:VTIMEZONE
BEGIN:VEVENT
DTSTART;VALUE=DATE:20260613
DTEND;VALUE=DATE:20260615
DTSTAMP:20260422T205055
CREATED:20260411T160856Z
LAST-MODIFIED:20260411T160856Z
UID:18499-1781308800-1781481599@magyarturistaegyesulet.hu
SUMMARY:CROSSKOVÁCSI MARATON\, hegyi kerékpár-\, hegyi futóverseny
DESCRIPTION:Szombaton hegyi kerékpárverseny\, vasárnap hegyi futóverseny az MTE Nagykovács Osztály szervezésében! \nLehet jelentkezni a versenyre indulóként és segítőként is Mátyus Attilánál: 06-20-942-6486
URL:https://magyarturistaegyesulet.hu/esemeny/crosskovacsi-maraton-hegyi-kerekpar-hegyi-futoverseny/
CATEGORIES:Nagykovácsi Osztály
ORGANIZER;CN="M%C3%A1tyus%20Attila":MAILTO:matyus.attila01@gmail.com
END:VEVENT
END:VCALENDAR