BEGIN:VCALENDAR
VERSION:2.0
PRODID:-//Magyar Turista Egyesület - MTE - ECPv5.14.1//NONSGML v1.0//EN
CALSCALE:GREGORIAN
METHOD:PUBLISH
X-WR-CALNAME:Magyar Turista Egyesület - MTE
X-ORIGINAL-URL:https://magyarturistaegyesulet.hu
X-WR-CALDESC:Events for Magyar Turista Egyesület - MTE
BEGIN:VTIMEZONE
TZID:UTC
BEGIN:STANDARD
TZOFFSETFROM:+0000
TZOFFSETTO:+0000
TZNAME:UTC
DTSTART:20260101T000000
END:STANDARD
END:VTIMEZONE
BEGIN:VEVENT
DTSTART;TZID=UTC:20260625T080000
DTEND;TZID=UTC:20260625T170000
DTSTAMP:20260423T090138
CREATED:20260411T184142Z
LAST-MODIFIED:20260411T184142Z
UID:18528-1782374400-1782406800@magyarturistaegyesulet.hu
SUMMARY:Esztergomi Osztály havi összejövetele
DESCRIPTION:Esztergomi Osztály havi összejövetele. \nHelyszín: Vaskapu-hegy\, Brilli Gyula menedékház
URL:https://magyarturistaegyesulet.hu/esemeny/esztergomi-osztaly-havi-osszejovetele-4/
CATEGORIES:Esztergomi Osztály
ORGANIZER;CN="Kassai%20K%C3%A1lm%C3%A1n":MAILTO:kassaik@printer-net.hu
END:VEVENT
END:VCALENDAR