BEGIN:VCALENDAR
VERSION:2.0
PRODID:-//Magyar Turista Egyesület - MTE - ECPv5.14.1//NONSGML v1.0//EN
CALSCALE:GREGORIAN
METHOD:PUBLISH
X-WR-CALNAME:Magyar Turista Egyesület - MTE
X-ORIGINAL-URL:https://magyarturistaegyesulet.hu
X-WR-CALDESC:Events for Magyar Turista Egyesület - MTE
BEGIN:VTIMEZONE
TZID:UTC
BEGIN:STANDARD
TZOFFSETFROM:+0000
TZOFFSETTO:+0000
TZNAME:UTC
DTSTART:20260101T000000
END:STANDARD
END:VTIMEZONE
BEGIN:VEVENT
DTSTART;TZID=UTC:20260606T080000
DTEND;TZID=UTC:20260606T170000
DTSTAMP:20260422T180442
CREATED:20260412T053800Z
LAST-MODIFIED:20260412T053800Z
UID:18573-1780732800-1780765200@magyarturistaegyesulet.hu
SUMMARY:Koloska-völgy
DESCRIPTION:            Koloska-völgy\n gyalogos és kerékpáros hibrid-körtúra\n  \nUtazás: Budapest – Balatonarács \nKerekezés: Balatonarács – Koloska csárda \nGyalogos útvonal: Csárda – Koloska sziklák – Koloska-forrás – Sándor-hegy – Csárda \nKerékpáros útvonal: Csárda – Balatonfüred – Tihany – Komp – Szántód – B.földvár \nTúratáv gyalog: 6\,5 km \nSzint:  ↑↓120 m \nTúratáv kerékpárral: 28\,0 km
URL:https://magyarturistaegyesulet.hu/esemeny/koloska-volgy/
CATEGORIES:Szentendrei Osztály – HÓD HTE
ORGANIZER;CN="Beck%20L%C3%A1szl%C3%B3":MAILTO:beckhod@t-online.hu
END:VEVENT
END:VCALENDAR