BEGIN:VCALENDAR
VERSION:2.0
PRODID:-//Magyar Turista Egyesület - MTE - ECPv5.14.1//NONSGML v1.0//EN
CALSCALE:GREGORIAN
METHOD:PUBLISH
X-WR-CALNAME:Magyar Turista Egyesület - MTE
X-ORIGINAL-URL:https://magyarturistaegyesulet.hu
X-WR-CALDESC:Events for Magyar Turista Egyesület - MTE
BEGIN:VTIMEZONE
TZID:UTC
BEGIN:STANDARD
TZOFFSETFROM:+0000
TZOFFSETTO:+0000
TZNAME:UTC
DTSTART:20250101T000000
END:STANDARD
END:VTIMEZONE
BEGIN:VEVENT
DTSTART;TZID=UTC:20250503T080000
DTEND;TZID=UTC:20250503T150000
DTSTAMP:20260419T162358
CREATED:20250326T113808Z
LAST-MODIFIED:20250326T120110Z
UID:17913-1746259200-1746284400@magyarturistaegyesulet.hu
SUMMARY:Körtúra a Mátrában
DESCRIPTION:Útvonal: Mátrafüred – Máriácska – Gyökeres forrás – Mátraháza – Sás-tó – Mátrafüred. Táv: 11 km.400 m fel és le\, menetidő: kb.4.ó. \nIndulás: Bp. Stadion busz vá 8ó15\, menetidő 1\,5 ó. Visszainduló buszok: 14ó05\, 14ó44\, 15ó10\, 15ó59. \nTúravezető: Skultéty Miklós\, telefonos egyeztetés kéretik (20-222-5038)!
URL:https://magyarturistaegyesulet.hu/esemeny/kortura-a-matraban/
LOCATION:Stadion Buszpályaudvar\, Hungária krt. 48-52\, Budapest\, 1143
CATEGORIES:Dobogókői Osztály
ORGANIZER;CN="Skult%C3%A9ty%20Mikl%C3%B3s":MAILTO:skultetym@t-online.hu
END:VEVENT
END:VCALENDAR