BEGIN:VCALENDAR
VERSION:2.0
PRODID:-//Magyar Turista Egyesület - MTE - ECPv5.14.1//NONSGML v1.0//EN
CALSCALE:GREGORIAN
METHOD:PUBLISH
X-WR-CALNAME:Magyar Turista Egyesület - MTE
X-ORIGINAL-URL:https://magyarturistaegyesulet.hu
X-WR-CALDESC:Events for Magyar Turista Egyesület - MTE
BEGIN:VTIMEZONE
TZID:UTC
BEGIN:STANDARD
TZOFFSETFROM:+0000
TZOFFSETTO:+0000
TZNAME:UTC
DTSTART:20260101T000000
END:STANDARD
END:VTIMEZONE
BEGIN:VEVENT
DTSTART;VALUE=DATE:20260620
DTEND;VALUE=DATE:20260622
DTSTAMP:20260423T021245
CREATED:20260411T183712Z
LAST-MODIFIED:20260411T183712Z
UID:18526-1781913600-1782086399@magyarturistaegyesulet.hu
SUMMARY:NIMRÓD zarándoklat
DESCRIPTION:Meghívásos túra! \nNIMRÓD zarándoklat \nNyári napforduló 10:24
URL:https://magyarturistaegyesulet.hu/esemeny/nimrod-zarandoklat/
CATEGORIES:Esztergomi Osztály
ORGANIZER;CN="Kassai%20K%C3%A1lm%C3%A1n":MAILTO:kassaik@printer-net.hu
END:VEVENT
END:VCALENDAR