BEGIN:VCALENDAR
VERSION:2.0
PRODID:-//Magyar Turista Egyesület - MTE - ECPv5.14.1//NONSGML v1.0//EN
CALSCALE:GREGORIAN
METHOD:PUBLISH
X-WR-CALNAME:Magyar Turista Egyesület - MTE
X-ORIGINAL-URL:https://magyarturistaegyesulet.hu
X-WR-CALDESC:Events for Magyar Turista Egyesület - MTE
BEGIN:VTIMEZONE
TZID:UTC
BEGIN:STANDARD
TZOFFSETFROM:+0000
TZOFFSETTO:+0000
TZNAME:UTC
DTSTART:20260101T000000
END:STANDARD
END:VTIMEZONE
BEGIN:VEVENT
DTSTART;TZID=UTC:20260620T080000
DTEND;TZID=UTC:20260620T170000
DTSTAMP:20260423T034259
CREATED:20260411T161627Z
LAST-MODIFIED:20260411T161627Z
UID:18501-1781942400-1781974800@magyarturistaegyesulet.hu
SUMMARY:Pilisi túra
DESCRIPTION:Útvonal: Dobogókő – Királykút – Prédikálószék –  Dömös \nTáv: 13 km \nSzint: ↓300 m\,  ↑250 m\, ↓ 500 m \nIndulás: Pomáz 9:15-kor Dobogókőre tartó busszal \nTúravezető: Skultéty Miklós \n!Telefonos egyeztetés szükséges: 06-20-222-5038!
URL:https://magyarturistaegyesulet.hu/esemeny/pilisi-tura-2/
CATEGORIES:Dobogókői Osztály
ORGANIZER;CN="Skult%C3%A9ty%20Mikl%C3%B3s":MAILTO:skultetym@t-online.hu
END:VEVENT
END:VCALENDAR