BEGIN:VCALENDAR
VERSION:2.0
PRODID:-//Magyar Turista Egyesület - MTE - ECPv5.14.1//NONSGML v1.0//EN
CALSCALE:GREGORIAN
METHOD:PUBLISH
X-WR-CALNAME:Magyar Turista Egyesület - MTE
X-ORIGINAL-URL:https://magyarturistaegyesulet.hu
X-WR-CALDESC:Events for Magyar Turista Egyesület - MTE
BEGIN:VTIMEZONE
TZID:UTC
BEGIN:STANDARD
TZOFFSETFROM:+0000
TZOFFSETTO:+0000
TZNAME:UTC
DTSTART:20260101T000000
END:STANDARD
END:VTIMEZONE
BEGIN:VEVENT
DTSTART;TZID=UTC:20260531T080000
DTEND;TZID=UTC:20260531T170000
DTSTAMP:20260422T151729
CREATED:20260412T053141Z
LAST-MODIFIED:20260412T053141Z
UID:18571-1780214400-1780246800@magyarturistaegyesulet.hu
SUMMARY:Technikai túra
DESCRIPTION:Technikai túra Lajosforrás és Dömörkapu között.\n  \nAlapfestést fogjuk elkészíteni. \nÚtvonal: (Z+) Lajosforrás – Öregnyílás-völgy – Dömörkapu \nTúratáv:          Karbantartás: 2 x 3\,0 km
URL:https://magyarturistaegyesulet.hu/esemeny/technikai-tura-2/
CATEGORIES:Szentendrei Osztály – HÓD HTE
ORGANIZER;CN="Beck%20L%C3%A1szl%C3%B3":MAILTO:beckhod@t-online.hu
END:VEVENT
END:VCALENDAR