BEGIN:VCALENDAR
VERSION:2.0
PRODID:-//Magyar Turista Egyesület - MTE - ECPv5.14.1//NONSGML v1.0//EN
CALSCALE:GREGORIAN
METHOD:PUBLISH
X-WR-CALNAME:Magyar Turista Egyesület - MTE
X-ORIGINAL-URL:https://magyarturistaegyesulet.hu
X-WR-CALDESC:Events for Magyar Turista Egyesület - MTE
BEGIN:VTIMEZONE
TZID:UTC
BEGIN:STANDARD
TZOFFSETFROM:+0000
TZOFFSETTO:+0000
TZNAME:UTC
DTSTART:20260101T000000
END:STANDARD
END:VTIMEZONE
BEGIN:VEVENT
DTSTART;TZID=UTC:20260607T080000
DTEND;TZID=UTC:20260607T170000
DTSTAMP:20260422T192329
CREATED:20260412T054116Z
LAST-MODIFIED:20260412T054116Z
UID:18575-1780819200-1780851600@magyarturistaegyesulet.hu
SUMMARY:Technikai túra
DESCRIPTION:Technikai túra\nLajos forrás – Dömörkapu\n  \nJel és szín festése. \nÚtvonal: (Z+)     Lajos-forrás – Öregnyílás-völgy – Dömörkapu \nTúratáv:          Karbantartás: 2 x 3\,0 km \n                            Megközelítés:  2 x 4\,0 km
URL:https://magyarturistaegyesulet.hu/esemeny/technikai-tura-3/
CATEGORIES:Szentendrei Osztály – HÓD HTE
ORGANIZER;CN="Beck%20L%C3%A1szl%C3%B3":MAILTO:beckhod@t-online.hu
END:VEVENT
END:VCALENDAR