BEGIN:VCALENDAR
VERSION:2.0
PRODID:-//Magyar Turista Egyesület - MTE - ECPv5.14.1//NONSGML v1.0//EN
CALSCALE:GREGORIAN
METHOD:PUBLISH
X-WR-CALNAME:Magyar Turista Egyesület - MTE
X-ORIGINAL-URL:https://magyarturistaegyesulet.hu
X-WR-CALDESC:Events for Magyar Turista Egyesület - MTE
BEGIN:VTIMEZONE
TZID:UTC
BEGIN:STANDARD
TZOFFSETFROM:+0000
TZOFFSETTO:+0000
TZNAME:UTC
DTSTART:20260101T000000
END:STANDARD
END:VTIMEZONE
BEGIN:VEVENT
DTSTART;TZID=UTC:20260624T080000
DTEND;TZID=UTC:20260624T170000
DTSTAMP:20260423T074448
CREATED:20260412T060539Z
LAST-MODIFIED:20260412T060539Z
UID:18585-1782288000-1782320400@magyarturistaegyesulet.hu
SUMMARY:Visegrádi-hegység
DESCRIPTION:Visegrádi-hegység\ngyalogtúra\n  \nÚtvonal: Búbánat-völgy – Hideglelős  kereszt – Fári-kút – Vaskapu Turistaház – Esztergom \nTúratáv: 16\,0 km \nSzint: ↑↓ 400 m \nMenetidő:  5 óra
URL:https://magyarturistaegyesulet.hu/esemeny/visegradi-hegyseg/
CATEGORIES:Szentendrei Osztály – HÓD HTE
ORGANIZER;CN="Beck%20L%C3%A1szl%C3%B3":MAILTO:beckhod@t-online.hu
END:VEVENT
END:VCALENDAR